BEGIN:VCALENDAR
VERSION:2.0
PRODID:-//Jamestown Regional Medical Center - ECPv6.15.20//NONSGML v1.0//EN
CALSCALE:GREGORIAN
METHOD:PUBLISH
X-ORIGINAL-URL:https://jrmcnd.com
X-WR-CALDESC:Events for Jamestown Regional Medical Center
REFRESH-INTERVAL;VALUE=DURATION:PT1H
X-Robots-Tag:noindex
X-PUBLISHED-TTL:PT1H
BEGIN:VTIMEZONE
TZID:America/North_Dakota/Center
BEGIN:DAYLIGHT
TZOFFSETFROM:-0600
TZOFFSETTO:-0500
TZNAME:CDT
DTSTART:20250309T080000
END:DAYLIGHT
BEGIN:STANDARD
TZOFFSETFROM:-0500
TZOFFSETTO:-0600
TZNAME:CST
DTSTART:20251102T070000
END:STANDARD
BEGIN:DAYLIGHT
TZOFFSETFROM:-0600
TZOFFSETTO:-0500
TZNAME:CDT
DTSTART:20260308T080000
END:DAYLIGHT
BEGIN:STANDARD
TZOFFSETFROM:-0500
TZOFFSETTO:-0600
TZNAME:CST
DTSTART:20261101T070000
END:STANDARD
BEGIN:DAYLIGHT
TZOFFSETFROM:-0600
TZOFFSETTO:-0500
TZNAME:CDT
DTSTART:20270314T080000
END:DAYLIGHT
BEGIN:STANDARD
TZOFFSETFROM:-0500
TZOFFSETTO:-0600
TZNAME:CST
DTSTART:20271107T070000
END:STANDARD
END:VTIMEZONE
BEGIN:VEVENT
DTSTART;VALUE=DATE:20260501
DTEND;VALUE=DATE:20260502
DTSTAMP:20260422T025328
CREATED:20240403T154955Z
LAST-MODIFIED:20260402T135001Z
UID:10002269-1777593600-1777679999@jrmcnd.com
SUMMARY:Nominate a SHERO
DESCRIPTION:A SHERO is the CEO of her family\, adventure seeking\, goal-setting woman who is admired for her courage. \nWe seek to recognize an inspiring woman who epitomizes strength\, confidence and positivity. Please share with us a story of a woman making a difference and motivating others through her example. \nDO YOU KNOW HER?\nNominate a woman doing great things and inspires others to do the same. \n\nMust be 18 years of age or older to be nominated.\nDeadline to enter is noon\, Friday\, May 1st.\n\nNOMINATE A SHERO
URL:https://jrmcnd.com/events/shero-contest/
LOCATION:JRMC\, 2422 20th Street SW\, Jamestown\, ND\, 58401
CATEGORIES:Events
ATTACH;FMTTYPE=image/jpeg:https://jrmcnd.com/wp-content/uploads/WH_SHERO_event.jpg
ORGANIZER;CN="JRMC":MAILTO:info@jrmcnd.com
END:VEVENT
BEGIN:VEVENT
DTSTART;TZID=America/North_Dakota/Center:20260507T110000
DTEND;TZID=America/North_Dakota/Center:20260507T120000
DTSTAMP:20260422T025328
CREATED:20260406T153907Z
LAST-MODIFIED:20260406T154202Z
UID:10002286-1778151600-1778155200@jrmcnd.com
SUMMARY:JRMC U: What is Non-Opioid Pain Management?
DESCRIPTION:JRMC U: What is Non-Opioid Pain Management?\nThursday\, May 7th • 11 am – noon\nTwo Rivers Activity Center \nChronic pain can affect every part of your life — but you don’t have to manage it alone. Join JRMC’s pain management team\, Morgan Croves\, DNP-C\, and Joe McBeain\, CRNA\, to learn what causes chronic pain and what you can do to feel better. Discover practical strategies and local resources to help you manage your pain and improve your quality of life. \n\nOPEN TO THE PUBLIC\nFREE LIGHT LUNCH\n\nIT’S RIGHT HERE at JRMC.
URL:https://jrmcnd.com/events/jrmc-u-what-is-non-opioid-pain-management/
LOCATION:Two Rivers Activity Center\, 1501 5th St NE\, Jamestown\, ND\, 58401\, United States
CATEGORIES:Events,JRMC-U
ATTACH;FMTTYPE=image/jpeg:https://jrmcnd.com/wp-content/uploads/JRMCU_event_pain-management.jpg
ORGANIZER;CN="JRMC":MAILTO:info@jrmcnd.com
END:VEVENT
END:VCALENDAR